BEGIN:VCALENDAR
VERSION:2.0
PRODID:spatie/icalendar-generator
DESCRIPTION:Events from BILL REIDY Solo Acoustic
X-WR-CALDESC:Events from BILL REIDY Solo Acoustic
REFRESH-INTERVAL;VALUE=DURATION:PT1440M
X-PUBLISHED-TTL:PT1440M
BEGIN:VTIMEZONE
TZID:Etc/GMT+0
BEGIN:STANDARD
DTSTART:20230520T110000Z
TZOFFSETFROM:+0000
TZOFFSETTO:+0000
END:STANDARD
END:VTIMEZONE
BEGIN:VTIMEZONE
TZID:UTC
BEGIN:STANDARD
DTSTART:20250729T155026Z
TZOFFSETFROM:+0000
TZOFFSETTO:+0000
END:STANDARD
END:VTIMEZONE
BEGIN:VEVENT
UID:3-3
DTSTAMP:20260425T155026Z
SUMMARY:Valentines Day Private Party
LOCATION:Private Venue
ORGANIZER;CN=williamreidy:MAILTO:billreidyjr@comcast.net
DTSTART;TZID=Etc/GMT+0:20240214T110000
DTEND;TZID=Etc/GMT+0:20240214T130000
X-ALT-DESC;FMTTYPE=TEXT/HTML:
CATEGORIES:Private
URL;VALUE=URI:https://billreidysolo.com/mc-events/valentines-day-private-pa
 rty/
METHOD:PUBLISH
END:VEVENT
END:VCALENDAR