BEGIN:VCALENDAR
VERSION:2.0
PRODID:spatie/icalendar-generator
DESCRIPTION:Events from BILL REIDY Solo Acoustic
X-WR-CALDESC:Events from BILL REIDY Solo Acoustic
REFRESH-INTERVAL;VALUE=DURATION:PT1440M
X-PUBLISHED-TTL:PT1440M
BEGIN:VTIMEZONE
TZID:Etc/GMT+0
BEGIN:STANDARD
DTSTART:20250614T113000Z
TZOFFSETFROM:+0000
TZOFFSETTO:+0000
END:STANDARD
END:VTIMEZONE
BEGIN:VTIMEZONE
TZID:UTC
BEGIN:STANDARD
DTSTART:20250728T124116Z
TZOFFSETFROM:+0000
TZOFFSETTO:+0000
END:STANDARD
END:VTIMEZONE
BEGIN:VEVENT
UID:44-42
DTSTAMP:20260424T124116Z
SUMMARY:St. Patrick's Day Event
LOCATION:Seekonk Senior Center   Seekonk MA
ORGANIZER;CN=williamreidy:MAILTO:billreidyjr@comcast.net
DTSTART;TZID=Etc/GMT+0:20260311T113000
DTEND;TZID=Etc/GMT+0:20260311T123000
X-ALT-DESC;FMTTYPE=TEXT/HTML:Contact Venue for more information: https://ww
 w.seekonk-ma.gov/380/Human-Services-Council-On-Aging
CATEGORIES:General
URL;VALUE=URI:https://billreidysolo.com/mc-events/st-patricks-day-event-3/
METHOD:PUBLISH
END:VEVENT
END:VCALENDAR