BEGIN:VCALENDAR
VERSION:2.0
PRODID:spatie/icalendar-generator
DESCRIPTION:Events from BILL REIDY Solo Acoustic
X-WR-CALDESC:Events from BILL REIDY Solo Acoustic
REFRESH-INTERVAL;VALUE=DURATION:PT1440M
X-PUBLISHED-TTL:PT1440M
BEGIN:VTIMEZONE
TZID:Etc/GMT+0
BEGIN:STANDARD
DTSTART:20250622T113000Z
TZOFFSETFROM:+0000
TZOFFSETTO:+0000
END:STANDARD
END:VTIMEZONE
BEGIN:VTIMEZONE
TZID:UTC
BEGIN:STANDARD
DTSTART:20250727T225026Z
TZOFFSETFROM:+0000
TZOFFSETTO:+0000
END:STANDARD
END:VTIMEZONE
BEGIN:VEVENT
UID:46-35
DTSTAMP:20260423T225026Z
SUMMARY:St. Patrick's Day Event
LOCATION:Stoughton Senior Center   Stoughton MA
ORGANIZER;CN=williamreidy:MAILTO:billreidyjr@comcast.net
DTSTART;TZID=Etc/GMT+0:20260319T113000
DTEND;TZID=Etc/GMT+0:20260319T123000
X-ALT-DESC;FMTTYPE=TEXT/HTML:Contact Venue for more information: https://ww
 w.stoughton.org/355/Council-on-Aging
CATEGORIES:General
URL;VALUE=URI:https://billreidysolo.com/mc-events/st-patricks-day-event-11/
METHOD:PUBLISH
END:VEVENT
END:VCALENDAR