BEGIN:VCALENDAR
VERSION:2.0
PRODID:spatie/icalendar-generator
DESCRIPTION:Events from BILL REIDY Solo Acoustic
X-WR-CALDESC:Events from BILL REIDY Solo Acoustic
REFRESH-INTERVAL;VALUE=DURATION:PT1440M
X-PUBLISHED-TTL:PT1440M
BEGIN:VTIMEZONE
TZID:Etc/GMT+0
BEGIN:STANDARD
DTSTART:20230619T110000Z
TZOFFSETFROM:+0000
TZOFFSETTO:+0000
END:STANDARD
END:VTIMEZONE
BEGIN:VTIMEZONE
TZID:UTC
BEGIN:STANDARD
DTSTART:20250729T120340Z
TZOFFSETFROM:+0000
TZOFFSETTO:+0000
END:STANDARD
END:VTIMEZONE
BEGIN:VEVENT
UID:10-10
DTSTAMP:20260425T120340Z
SUMMARY:St. Patrick's Day Event - Scituate RI\, Senior Center
LOCATION:Private Venue - Scituate\, RI
ORGANIZER;CN=williamreidy:MAILTO:billreidyjr@comcast.net
DTSTART;TZID=Etc/GMT+0:20240315T110000
DTEND;TZID=Etc/GMT+0:20240315T130000
X-ALT-DESC;FMTTYPE=TEXT/HTML:
CATEGORIES:General
URL;VALUE=URI:https://billreidysolo.com/mc-events/st-patricks-day-event-sci
 tuate-ri-senior-center/
METHOD:PUBLISH
END:VEVENT
END:VCALENDAR