BEGIN:VCALENDAR
VERSION:2.0
PRODID:spatie/icalendar-generator
DESCRIPTION:Events from BILL REIDY Solo Acoustic
X-WR-CALDESC:Events from BILL REIDY Solo Acoustic
REFRESH-INTERVAL;VALUE=DURATION:PT1440M
X-PUBLISHED-TTL:PT1440M
BEGIN:VTIMEZONE
TZID:Etc/GMT+0
BEGIN:STANDARD
DTSTART:20250623T121500Z
TZOFFSETFROM:+0000
TZOFFSETTO:+0000
END:STANDARD
END:VTIMEZONE
BEGIN:VTIMEZONE
TZID:UTC
BEGIN:STANDARD
DTSTART:20250727T225008Z
TZOFFSETFROM:+0000
TZOFFSETTO:+0000
END:STANDARD
END:VTIMEZONE
BEGIN:VEVENT
UID:37-36
DTSTAMP:20260423T225008Z
SUMMARY:St. Patrick's Day Event
LOCATION:Marshfield Senior Center   Marshfield MA
ORGANIZER;CN=williamreidy:MAILTO:billreidyjr@comcast.net
DTSTART;TZID=Etc/GMT+0:20260320T121500
DTEND;TZID=Etc/GMT+0:20260320T131500
X-ALT-DESC;FMTTYPE=TEXT/HTML:Contact Venue for more information: https://ww
 w.marshfieldseniorcenter.org/
CATEGORIES:General
URL;VALUE=URI:https://billreidysolo.com/mc-events/st-patricks-day-event-12/
METHOD:PUBLISH
END:VEVENT
END:VCALENDAR