BEGIN:VCALENDAR
VERSION:2.0
PRODID:spatie/icalendar-generator
DESCRIPTION:Events from BILL REIDY Solo Acoustic
X-WR-CALDESC:Events from BILL REIDY Solo Acoustic
REFRESH-INTERVAL;VALUE=DURATION:PT1440M
X-PUBLISHED-TTL:PT1440M
BEGIN:VTIMEZONE
TZID:Etc/GMT+0
BEGIN:STANDARD
DTSTART:20250628T140000Z
TZOFFSETFROM:+0000
TZOFFSETTO:+0000
END:STANDARD
END:VTIMEZONE
BEGIN:VTIMEZONE
TZID:UTC
BEGIN:STANDARD
DTSTART:20250727T230602Z
TZOFFSETFROM:+0000
TZOFFSETTO:+0000
END:STANDARD
END:VTIMEZONE
BEGIN:VEVENT
UID:38-37
DTSTAMP:20260423T230602Z
SUMMARY:Private Event
LOCATION:Private Venue\, Falmouth MA
ORGANIZER;CN=williamreidy:MAILTO:billreidyjr@comcast.net
DTSTART;TZID=Etc/GMT+0:20260325T140000
DTEND;TZID=Etc/GMT+0:20260325T150000
X-ALT-DESC;FMTTYPE=TEXT/HTML:
CATEGORIES:Private
URL;VALUE=URI:https://billreidysolo.com/mc-events/private-event-13/
METHOD:PUBLISH
END:VEVENT
END:VCALENDAR