BEGIN:VCALENDAR
VERSION:2.0
PRODID:spatie/icalendar-generator
DESCRIPTION:Events from BILL REIDY Solo Acoustic
X-WR-CALDESC:Events from BILL REIDY Solo Acoustic
REFRESH-INTERVAL;VALUE=DURATION:PT1440M
X-PUBLISHED-TTL:PT1440M
BEGIN:VTIMEZONE
TZID:Etc/GMT+0
BEGIN:STANDARD
DTSTART:20250704T180000Z
TZOFFSETFROM:+0000
TZOFFSETTO:+0000
END:STANDARD
END:VTIMEZONE
BEGIN:VTIMEZONE
TZID:UTC
BEGIN:STANDARD
DTSTART:20250727T154529Z
TZOFFSETFROM:+0000
TZOFFSETTO:+0000
END:STANDARD
END:VTIMEZONE
BEGIN:VEVENT
UID:42-41
DTSTAMP:20260423T154529Z
SUMMARY:Sail House Tavern
LOCATION:Sail House Tavern 109 Middle St.  Fairhaven MA 02729
ORGANIZER;CN=williamreidy:MAILTO:billreidyjr@comcast.net
DTSTART;TZID=Etc/GMT+0:20260331T180000
DTEND;TZID=Etc/GMT+0:20260331T210000
X-ALT-DESC;FMTTYPE=TEXT/HTML:For more information: https://www.facebook.com
 /profile.php?id=61575230513345
CATEGORIES:General
URL;VALUE=URI:https://billreidysolo.com/mc-events/sail-house-tavern-2/
METHOD:PUBLISH
END:VEVENT
END:VCALENDAR