BEGIN:VCALENDAR
VERSION:2.0
PRODID:spatie/icalendar-generator
DESCRIPTION:Events from BILL REIDY Solo Acoustic
X-WR-CALDESC:Events from BILL REIDY Solo Acoustic
REFRESH-INTERVAL;VALUE=DURATION:PT1440M
X-PUBLISHED-TTL:PT1440M
BEGIN:VTIMEZONE
TZID:Etc/GMT+0
BEGIN:STANDARD
DTSTART:20230521T130000Z
TZOFFSETFROM:+0000
TZOFFSETTO:+0000
END:STANDARD
END:VTIMEZONE
BEGIN:VTIMEZONE
TZID:UTC
BEGIN:STANDARD
DTSTART:20250729T135936Z
TZOFFSETFROM:+0000
TZOFFSETTO:+0000
END:STANDARD
END:VTIMEZONE
BEGIN:VEVENT
UID:5-5
DTSTAMP:20260425T135936Z
SUMMARY:Valentines Day Private Party
LOCATION:Private Venue\, Warren\, RI
ORGANIZER;CN=williamreidy:MAILTO:billreidyjr@comcast.net
DTSTART;TZID=Etc/GMT+0:20240215T130000
DTEND;TZID=Etc/GMT+0:20240215T150000
X-ALT-DESC;FMTTYPE=TEXT/HTML:
CATEGORIES:General
URL;VALUE=URI:https://billreidysolo.com/mc-events/valentines-day-private-pa
 rty-3/
METHOD:PUBLISH
END:VEVENT
END:VCALENDAR